BEGIN:VCALENDAR
VERSION:2.0
PRODID:-//Squarespace Inc/Squarespace 6//v6//EN
BEGIN:VEVENT
UID:5a8bec4d08522933c27603a9@squarespace.com
DTSTAMP:20180220T094659Z
DTSTART:20181027T100000Z
DTEND:20181027T110000Z
SUMMARY:AWHSA Ordinary meeting 
END:VEVENT
END:VCALENDAR
