BEGIN:VCALENDAR
VERSION:2.0
PRODID:-//Squarespace Inc/Squarespace 6//v6//EN
BEGIN:VEVENT
UID:5a8bec0a8165f58a19fcc5a0@squarespace.com
DTSTAMP:20180220T094650Z
DTSTART:20181027T100000Z
DTEND:20181028T110000Z
SUMMARY:Bendigo Ag show 
END:VEVENT
END:VCALENDAR
