BEGIN:VCALENDAR
VERSION:2.0
PRODID:-//Squarespace Inc/Squarespace 6//v6//EN
BEGIN:VEVENT
UID:5a8beb3e9140b7effc63c0ed@squarespace.com
DTSTAMP:20180220T094632Z
DTSTART:20180210T100000Z
DTEND:20180210T110000Z
SUMMARY:Korumburra Show 
END:VEVENT
END:VCALENDAR
