BEGIN:VCALENDAR
VERSION:2.0
PRODID:-//Squarespace Inc/Squarespace 6//v6//EN
BEGIN:VEVENT
UID:5a8beb24ec212d1cb41970b9@squarespace.com
DTSTAMP:20180220T094626Z
DTSTART:20180216T100000Z
DTEND:20180218T110000Z
SUMMARY:Seymour Alternative Farming Expo
END:VEVENT
END:VCALENDAR
