BEGIN:VCALENDAR
VERSION:2.0
PRODID:-//Squarespace Inc/Squarespace 6//v6//EN
BEGIN:VEVENT
UID:5a8bebc7e2c4831ac9ca1113@squarespace.com
DTSTAMP:20180220T094736Z
DTSTART:20180720T110000Z
DTEND:20180722T120000Z
SUMMARY:Bendigo Sheep and Wool show 
END:VEVENT
END:VCALENDAR
