BEGIN:VCALENDAR
VERSION:2.0
PRODID:-//Squarespace Inc/Squarespace 6//v6//EN
BEGIN:VEVENT
UID:5a8bedb5e2c4831ac9ca4bf0@squarespace.com
DTSTAMP:20180220T094722Z
DTSTART:20180831T110000Z
DTEND:20180909T120000Z
SUMMARY:Royal Adelaide Show 
END:VEVENT
END:VCALENDAR
