BEGIN:VCALENDAR
VERSION:2.0
PRODID:-//Squarespace Inc/Squarespace 6//v6//EN
BEGIN:VEVENT
UID:5a8bee0bf9619a0752cb3f27@squarespace.com
DTSTAMP:20180220T094727Z
DTSTART:20180806T110000Z
DTEND:20180807T120000Z
SUMMARY:Sheepvention Hamilton 
END:VEVENT
END:VCALENDAR
