BEGIN:VCALENDAR
VERSION:2.0
PRODID:-//Squarespace Inc/Squarespace 6//v6//EN
BEGIN:VEVENT
UID:5a8bed1e0d9297112d6cd23d@squarespace.com
DTSTAMP:20180220T094717Z
DTSTART:20180922T110000Z
DTEND:20181002T120000Z
SUMMARY:Royal Melbourne Show 
END:VEVENT
END:VCALENDAR
