BEGIN:VCALENDAR
VERSION:2.0
PRODID:-//Squarespace Inc/Squarespace 6//v6//EN
BEGIN:VEVENT
UID:5a8bed749140b7effc6403df@squarespace.com
DTSTAMP:20180220T094711Z
DTSTART:20180922T110000Z
DTEND:20180929T120000Z
SUMMARY:Royal Perth Show 
END:VEVENT
END:VCALENDAR
