BEGIN:VCALENDAR
VERSION:2.0
PRODID:-//Squarespace Inc/Squarespace 6//v6//EN
BEGIN:VEVENT
UID:5994ff6debbd1a4f182a1bfa@squarespace.com
DTSTAMP:20170817T023043Z
DTSTART:20170922T230000Z
DTEND:20170930T080000Z
SUMMARY:Perth Royal Show 2017
GEO:-31.97592;115.7852
LOCATION:Perth Royal Show\, 1 Graylands Road\, Claremont\, WA\, 6010\, Aust
 ralia
END:VEVENT
END:VCALENDAR
