BEGIN:VCALENDAR
VERSION:2.0
PRODID:-//Squarespace Inc/Squarespace 6//v6//EN
BEGIN:VEVENT
UID:59950025cd0f689740eeeb98@squarespace.com
DTSTAMP:20170817T023428Z
DTSTART:20170831T230000Z
DTEND:20170910T070000Z
SUMMARY:Royal Adelaide Show 2017
GEO:-34.944842;138.589128
LOCATION:Adelaide Showgrounds\, Goodwood Road\, Wayville\, SA\, 5034\, Aust
 ralia
END:VEVENT
END:VCALENDAR
