BEGIN:VCALENDAR
VERSION:2.0
PRODID:-//Squarespace Inc/Squarespace 6//v6//EN
BEGIN:VEVENT
UID:5994fd593e00bee1adc2c24d@squarespace.com
DTSTAMP:20170817T022553Z
DTSTART:20170922T230000Z
DTEND:20171003T060000Z
SUMMARY:Royal Melbourne Show
GEO:-37.777469;144.911777
LOCATION:Melbourne Showgrounds\, Epsom Road\, Ascot Vale\, VIC\, 3032\, Aus
 tralia
END:VEVENT
END:VCALENDAR
